BEGIN:VCALENDAR
VERSION:2.0
PRODID:-//PR Statistics - ECPv6.10.0//NONSGML v1.0//EN
CALSCALE:GREGORIAN
METHOD:PUBLISH
X-WR-CALNAME:PR Statistics
X-ORIGINAL-URL:https://prstats.preprodw.com
X-WR-CALDESC:Events for PR Statistics
REFRESH-INTERVAL;VALUE=DURATION:PT1H
X-Robots-Tag:noindex
X-PUBLISHED-TTL:PT1H
BEGIN:VTIMEZONE
TZID:Europe/London
BEGIN:DAYLIGHT
TZOFFSETFROM:+0000
TZOFFSETTO:+0100
TZNAME:BST
DTSTART:20180325T010000
END:DAYLIGHT
BEGIN:STANDARD
TZOFFSETFROM:+0100
TZOFFSETTO:+0000
TZNAME:GMT
DTSTART:20181028T010000
END:STANDARD
END:VTIMEZONE
BEGIN:VEVENT
DTSTART;VALUE=DATE:20181112
DTEND;VALUE=DATE:20181117
DTSTAMP:20260420T005104
CREATED:20181016T130242Z
LAST-MODIFIED:20220303T103959Z
UID:10000287-1541980800-1542412799@prstats.preprodw.com
SUMMARY:IN HOUSE Introduction to spatial analysis using R (INHO05)
DESCRIPTION:IN HOUSE Introduction to spatial analysis using R (INHO05)\n			\n			\n				\n				\n				\n				\n			\n				\n				\n				\n				\n				\n				\n				\n				\n				\n				\n				Event Date \nMonday\, January 25th\, 2022\n			\n			\n				\n				\n				\n				\n			\n				\n				\n				\n				\n				\n				\n				\n					\n				\n				\n				\n					\n						\n						\n							\n							\n						\n					\n				\n				\n				\n				\n			\n			\n				\n				\n				\n					\n						\n						\n							\n							\n						\n					\n				\n				\n				\n				\n			\n			\n				\n				\n			\n			\n			\n				\n				\n				\n				\n			\n				\n				\n				\n				\n				\n				\n				\n				\n				\n				\n				Course Format\nThis is an ‘IN HOUSE COURSE’ – the instructor will be delivering lectures and coaching attendees on site. \nCourse Program\nTIME ZONE – UTC+2 – however all sessions will be recorded and made available allowing attendees from different time zones to follow a day behind with an additional 1/2 days support after the official course finish date (please email oliverhooker@prstatistics.com for full details or to discuss how we can accommodate you). \n			\n				\n				\n				\n				\n				\n				\n				\n				\n				\n				Course Details\n				\nCourse overview: \nThis is a private ‘in house’ course being delivered on site. If you would be interested in organising an in house course at your institute or place of work please contact oliverhooker@prstatistics.com to see if we can cover your desired subject \n			\n			\n			\n				\n				\n				\n				\n			\n				\n				\n				\n				\n				\n				\n				\n				\n				\n				\n				 \n			\n			\n				\n				\n				\n				\n				\n				\n				\n				\n				\n				PLEASE READ – CANCELLATION POLICY \nCancellations are accepted up to 28 days before the course start date subject to a 25% cancellation fee. Cancellations later than this may be considered\, contact oliverhooker@prstatistics.com. Failure to attend will result in the full cost of the course being charged. In the unfortunate event that a course is cancelled due to unforeseen circumstances a full refund of the course fees will be credited. \n			\n				\n				\n				\n				\n				If you are unsure about course suitability\, please get in touch by email to find out more \ninfo@clovertraining.co.uk
URL:https://prstats.preprodw.com/course/in-house-introduction-to-r-for-biologists-inho05/
CATEGORIES:In-House Courses
ATTACH;FMTTYPE=image/jpeg:https://prstats.preprodw.com/wp-content/uploads/2021/09/pr-stats-stock-image-31574565-xl-2015.jpeg
END:VEVENT
BEGIN:VEVENT
DTSTART;VALUE=DATE:20181023
DTEND;VALUE=DATE:20181026
DTSTAMP:20260420T005104
CREATED:20181001T092043Z
LAST-MODIFIED:20220303T104021Z
UID:10000284-1540252800-1540511999@prstats.preprodw.com
SUMMARY:IN HOUSE Introduction to R for biologists (INHO04)
DESCRIPTION:IN HOUSE Introduction to spatial analysis using R (INHO05)\n			\n			\n				\n				\n				\n				\n			\n				\n				\n				\n				\n				\n				\n				\n				\n				\n				\n				Event Date \nMonday\, January 25th\, 2022\n			\n			\n				\n				\n				\n				\n			\n				\n				\n				\n				\n				\n				\n				\n					\n				\n				\n				\n					\n						\n						\n							\n							\n						\n					\n				\n				\n				\n				\n			\n			\n				\n				\n				\n					\n						\n						\n							\n							\n						\n					\n				\n				\n				\n				\n			\n			\n				\n				\n			\n			\n			\n				\n				\n				\n				\n			\n				\n				\n				\n				\n				\n				\n				\n				\n				\n				\n				Course Format\nThis is an ‘IN HOUSE COURSE’ – the instructor will be delivering lectures and coaching attendees on site. \nCourse Program\nTIME ZONE – UTC+2 – however all sessions will be recorded and made available allowing attendees from different time zones to follow a day behind with an additional 1/2 days support after the official course finish date (please email oliverhooker@prstatistics.com for full details or to discuss how we can accommodate you). \n			\n				\n				\n				\n				\n				\n				\n				\n				\n				\n				Course Details\n				 Course overview: \nThis is a private ‘in house’ course being delivered on site. If you would be interested in organising an in house course at your institute or place of work please contact oliverhooker@prstatistics.com to see if we can cover your desired subject \n			\n			\n			\n				\n				\n				\n				\n			\n				\n				\n				\n				\n				\n				\n				\n				\n				\n				\n				 \n			\n			\n				\n				\n				\n				\n				\n				\n				\n				\n				\n				PLEASE READ – CANCELLATION POLICY \nCancellations are accepted up to 28 days before the course start date subject to a 25% cancellation fee. Cancellations later than this may be considered\, contact oliverhooker@prstatistics.com. Failure to attend will result in the full cost of the course being charged. In the unfortunate event that a course is cancelled due to unforeseen circumstances a full refund of the course fees will be credited. \n			\n				\n				\n				\n				\n				If you are unsure about course suitability\, please get in touch by email to find out more \ninfo@clovertraining.co.uk
URL:https://prstats.preprodw.com/course/in-house-introduction-to-r-for-biologists-inho04/
CATEGORIES:In-House Courses
ATTACH;FMTTYPE=image/jpeg:https://prstats.preprodw.com/wp-content/uploads/2021/09/pr-stats-stock-image-31574565-xl-2015.jpeg
END:VEVENT
END:VCALENDAR